BEGIN:VCALENDAR
VERSION:2.0
PRODID:-//Feuerwehr Markt Hösbach - ECPv6.15.20//NONSGML v1.0//EN
CALSCALE:GREGORIAN
METHOD:PUBLISH
X-WR-CALNAME:Feuerwehr Markt Hösbach
X-ORIGINAL-URL:https://www.freiwillige-feuerwehr-hoesbach.de
X-WR-CALDESC:Veranstaltungen für Feuerwehr Markt Hösbach
REFRESH-INTERVAL;VALUE=DURATION:PT1H
X-Robots-Tag:noindex
X-PUBLISHED-TTL:PT1H
BEGIN:VTIMEZONE
TZID:Europe/Berlin
BEGIN:DAYLIGHT
TZOFFSETFROM:+0100
TZOFFSETTO:+0200
TZNAME:CEST
DTSTART:20190331T010000
END:DAYLIGHT
BEGIN:STANDARD
TZOFFSETFROM:+0200
TZOFFSETTO:+0100
TZNAME:CET
DTSTART:20191027T010000
END:STANDARD
BEGIN:DAYLIGHT
TZOFFSETFROM:+0100
TZOFFSETTO:+0200
TZNAME:CEST
DTSTART:20200329T010000
END:DAYLIGHT
BEGIN:STANDARD
TZOFFSETFROM:+0200
TZOFFSETTO:+0100
TZNAME:CET
DTSTART:20201025T010000
END:STANDARD
BEGIN:DAYLIGHT
TZOFFSETFROM:+0100
TZOFFSETTO:+0200
TZNAME:CEST
DTSTART:20210328T010000
END:DAYLIGHT
BEGIN:STANDARD
TZOFFSETFROM:+0200
TZOFFSETTO:+0100
TZNAME:CET
DTSTART:20211031T010000
END:STANDARD
END:VTIMEZONE
BEGIN:VEVENT
DTSTART;TZID=Europe/Berlin:20201011T100000
DTEND;TZID=Europe/Berlin:20201011T170000
DTSTAMP:20260420T163125
CREATED:20200109T182801Z
LAST-MODIFIED:20200905T113336Z
UID:725-1602410400-1602435600@www.freiwillige-feuerwehr-hoesbach.de
SUMMARY:Tag der Helfer am KUSPO
DESCRIPTION:KALENDER
URL:https://www.freiwillige-feuerwehr-hoesbach.de/event/tag-der-helfer-am-kuspo/
CATEGORIES:Jugend
END:VEVENT
BEGIN:VEVENT
DTSTART;TZID=Europe/Berlin:20201011T100000
DTEND;TZID=Europe/Berlin:20201011T170000
DTSTAMP:20260420T163125
CREATED:20200605T132615Z
LAST-MODIFIED:20200906T180247Z
UID:1852-1602410400-1602435600@www.freiwillige-feuerwehr-hoesbach.de
SUMMARY:Abgesagt - Tag der Helfer am KUSPO
DESCRIPTION:KALENDER
URL:https://www.freiwillige-feuerwehr-hoesbach.de/event/tag-der-helfer-am-kuspo-2/
CATEGORIES:Aktive & Verein
END:VEVENT
END:VCALENDAR